BEGIN:VCALENDAR
VERSION:2.0
PRODID:-//Capital City Track Club - ECPv6.15.3//NONSGML v1.0//EN
CALSCALE:GREGORIAN
METHOD:PUBLISH
X-ORIGINAL-URL:http://capitalcitytrackclub.ca
X-WR-CALDESC:Events for Capital City Track Club
REFRESH-INTERVAL;VALUE=DURATION:PT1H
X-Robots-Tag:noindex
X-PUBLISHED-TTL:PT1H
BEGIN:VTIMEZONE
TZID:America/Edmonton
BEGIN:DAYLIGHT
TZOFFSETFROM:-0700
TZOFFSETTO:-0600
TZNAME:MDT
DTSTART:20260308T090000
END:DAYLIGHT
BEGIN:STANDARD
TZOFFSETFROM:-0600
TZOFFSETTO:-0700
TZNAME:MST
DTSTART:20261101T080000
END:STANDARD
END:VTIMEZONE
BEGIN:VEVENT
DTSTART;TZID=America/Edmonton:20260323T170000
DTEND;TZID=America/Edmonton:20260323T203000
DTSTAMP:20260419T061645
CREATED:20260309T190255Z
LAST-MODIFIED:20260309T191931Z
UID:1329-1774285200-1774297800@capitalcitytrackclub.ca
SUMMARY:Technical Practice – Sprints\, Hurdles\, Horizontal Jumps
DESCRIPTION:Technical session for hurdlers\, sprinters and horizontal jumpers. Exact start time will be communicated individually based on events being trained. Follow up with lead coaches for more information.\nFoote Field Dome – meet group on the track.
URL:http://capitalcitytrackclub.ca/event/technical-practice-sprints-hurdles-horizontal-jumps-14/
LOCATION:Foote Field Dome\, 11601 68 Ave NW\, Edmonton\, Alberta\, T6G 2E1\, Canada
CATEGORIES:Technical Practice
END:VEVENT
BEGIN:VEVENT
DTSTART;TZID=America/Edmonton:20260324T170000
DTEND;TZID=America/Edmonton:20260324T190000
DTSTAMP:20260419T061645
CREATED:20260309T192153Z
LAST-MODIFIED:20260309T192153Z
UID:1337-1774371600-1774378800@capitalcitytrackclub.ca
SUMMARY:EDM – Throws Practice
DESCRIPTION:Meet on the track at the University of Alberta Butterdome.
URL:http://capitalcitytrackclub.ca/event/edm-throws-practice-45/
LOCATION:University of Alberta Butterdome\, 11440 87 Ave NW\, Edmonton\, Alberta\, T6G 1C9\, Canada
CATEGORIES:EDM - Throws
END:VEVENT
BEGIN:VEVENT
DTSTART;TZID=America/Edmonton:20260324T170000
DTEND;TZID=America/Edmonton:20260324T190000
DTSTAMP:20260419T061645
CREATED:20260309T192528Z
LAST-MODIFIED:20260309T192528Z
UID:1345-1774371600-1774378800@capitalcitytrackclub.ca
SUMMARY:EDM – Development Practice
DESCRIPTION:Meet on the track at the University of Alberta Butterdome.
URL:http://capitalcitytrackclub.ca/event/edm-development-practice-59/
LOCATION:University of Alberta Butterdome\, 11440 87 Ave NW\, Edmonton\, Alberta\, T6G 1C9\, Canada
CATEGORIES:EDM - Development
END:VEVENT
BEGIN:VEVENT
DTSTART;TZID=America/Edmonton:20260324T170000
DTEND;TZID=America/Edmonton:20260324T190000
DTSTAMP:20260419T061645
CREATED:20260309T192846Z
LAST-MODIFIED:20260309T192846Z
UID:1351-1774371600-1774378800@capitalcitytrackclub.ca
SUMMARY:SP – Jr High Development & Development Practice
DESCRIPTION:Meet on the track at the University of Alberta Butterdome.
URL:http://capitalcitytrackclub.ca/event/sp-jr-high-development-development-practice-43/
LOCATION:University of Alberta Butterdome\, 11440 87 Ave NW\, Edmonton\, Alberta\, T6G 1C9\, Canada
CATEGORIES:SP - Development,SP - Jr High Development
END:VEVENT
BEGIN:VEVENT
DTSTART;TZID=America/Edmonton:20260325T170000
DTEND;TZID=America/Edmonton:20260325T183000
DTSTAMP:20260419T061645
CREATED:20260309T185950Z
LAST-MODIFIED:20260309T191517Z
UID:1325-1774458000-1774463400@capitalcitytrackclub.ca
SUMMARY:EDM – Jr High Development Practice
DESCRIPTION:Kinsmen Sports Centre – Enter through main doors and meet group on lower track.
URL:http://capitalcitytrackclub.ca/event/edm-jr-high-development-practice-54/
LOCATION:Kinsmen Sports Centre\, 9100 Walterdale Hill\, Edmonton\, Alberta\, T6E 2V3\, Canada
CATEGORIES:EDM - Jr High Development
END:VEVENT
BEGIN:VEVENT
DTSTART;TZID=America/Edmonton:20260326T170000
DTEND;TZID=America/Edmonton:20260326T190000
DTSTAMP:20260419T061645
CREATED:20260309T192215Z
LAST-MODIFIED:20260309T192215Z
UID:1338-1774544400-1774551600@capitalcitytrackclub.ca
SUMMARY:EDM – Throws Practice
DESCRIPTION:Meet on the track at the University of Alberta Butterdome.
URL:http://capitalcitytrackclub.ca/event/edm-throws-practice-46/
LOCATION:University of Alberta Butterdome\, 11440 87 Ave NW\, Edmonton\, Alberta\, T6G 1C9\, Canada
CATEGORIES:EDM - Throws
END:VEVENT
BEGIN:VEVENT
DTSTART;TZID=America/Edmonton:20260326T170000
DTEND;TZID=America/Edmonton:20260326T190000
DTSTAMP:20260419T061645
CREATED:20260309T192553Z
LAST-MODIFIED:20260309T192553Z
UID:1346-1774544400-1774551600@capitalcitytrackclub.ca
SUMMARY:EDM – Development Practice
DESCRIPTION:Meet on the track at the University of Alberta Butterdome.
URL:http://capitalcitytrackclub.ca/event/edm-development-practice-60/
LOCATION:University of Alberta Butterdome\, 11440 87 Ave NW\, Edmonton\, Alberta\, T6G 1C9\, Canada
CATEGORIES:EDM - Development
END:VEVENT
BEGIN:VEVENT
DTSTART;TZID=America/Edmonton:20260326T170000
DTEND;TZID=America/Edmonton:20260326T190000
DTSTAMP:20260419T061645
CREATED:20260309T192910Z
LAST-MODIFIED:20260309T192910Z
UID:1352-1774544400-1774551600@capitalcitytrackclub.ca
SUMMARY:SP – Jr High Development & Development Practice
DESCRIPTION:Meet on the track at the University of Alberta Butterdome.
URL:http://capitalcitytrackclub.ca/event/sp-jr-high-development-development-practice-44/
LOCATION:University of Alberta Butterdome\, 11440 87 Ave NW\, Edmonton\, Alberta\, T6G 1C9\, Canada
CATEGORIES:SP - Development,SP - Jr High Development
END:VEVENT
BEGIN:VEVENT
DTSTART;TZID=America/Edmonton:20260327T170000
DTEND;TZID=America/Edmonton:20260327T183000
DTSTAMP:20260419T061645
CREATED:20260309T192718Z
LAST-MODIFIED:20260309T192718Z
UID:1348-1774630800-1774636200@capitalcitytrackclub.ca
SUMMARY:EDM – Jr High Development Practice
DESCRIPTION:Kinsmen Sports Centre – Enter through main doors and meet group on lower track.
URL:http://capitalcitytrackclub.ca/event/edm-jr-high-development-practice-58/
LOCATION:Kinsmen Sports Centre\, 9100 Walterdale Hill\, Edmonton\, Alberta\, T6E 2V3\, Canada
CATEGORIES:EDM - Jr High Development
END:VEVENT
BEGIN:VEVENT
DTSTART;TZID=America/Edmonton:20260328T111500
DTEND;TZID=America/Edmonton:20260328T131500
DTSTAMP:20260419T061645
CREATED:20260309T192647Z
LAST-MODIFIED:20260309T192647Z
UID:1347-1774696500-1774703700@capitalcitytrackclub.ca
SUMMARY:EDM – Jr High Development Practice
DESCRIPTION:Kinsmen Sports Centre – Enter through main doors and meet group on lower track.
URL:http://capitalcitytrackclub.ca/event/edm-jr-high-development-practice-57/
LOCATION:Kinsmen Sports Centre\, 9100 Walterdale Hill\, Edmonton\, Alberta\, T6E 2V3\, Canada
CATEGORIES:EDM - Jr High Development
END:VEVENT
BEGIN:VEVENT
DTSTART;TZID=America/Edmonton:20260413T160000
DTEND;TZID=America/Edmonton:20260413T180000
DTSTAMP:20260419T061645
CREATED:20260411T201051Z
LAST-MODIFIED:20260411T201051Z
UID:1382-1776096000-1776103200@capitalcitytrackclub.ca
SUMMARY:SP - Distance Practice
DESCRIPTION:
URL:http://capitalcitytrackclub.ca/event/sp-distance-practice/
LOCATION:Strathcona Athletic Park\, 1100 N Cloverbar Road\, Sherwood Park\, Alberta\, T8H 2T5\, Canada
CATEGORIES:SP - Distance
END:VEVENT
BEGIN:VEVENT
DTSTART;TZID=America/Edmonton:20260413T160000
DTEND;TZID=America/Edmonton:20260413T180000
DTSTAMP:20260419T061645
CREATED:20260411T202826Z
LAST-MODIFIED:20260411T202826Z
UID:1407-1776096000-1776103200@capitalcitytrackclub.ca
SUMMARY:SP – Jr High Development & Development Practice
DESCRIPTION:
URL:http://capitalcitytrackclub.ca/event/sp-jr-high-development-development-practice-45/
LOCATION:Strathcona Athletic Park\, 1100 N Cloverbar Road\, Sherwood Park\, Alberta\, T8H 2T5\, Canada
CATEGORIES:SP - Development,SP - Jr High Development
END:VEVENT
BEGIN:VEVENT
DTSTART;TZID=America/Edmonton:20260413T160000
DTEND;TZID=America/Edmonton:20260413T190000
DTSTAMP:20260419T061645
CREATED:20260411T201911Z
LAST-MODIFIED:20260411T201911Z
UID:1392-1776096000-1776106800@capitalcitytrackclub.ca
SUMMARY:High Performance Practice
DESCRIPTION:Invitation only
URL:http://capitalcitytrackclub.ca/event/high-performance-practice/
LOCATION:Strathcona Athletic Park\, 1100 N Cloverbar Road\, Sherwood Park\, Alberta\, T8H 2T5\, Canada
CATEGORIES:High Performance
END:VEVENT
BEGIN:VEVENT
DTSTART;TZID=America/Edmonton:20260413T160000
DTEND;TZID=America/Edmonton:20260413T190000
DTSTAMP:20260419T061645
CREATED:20260412T030928Z
LAST-MODIFIED:20260412T030928Z
UID:1458-1776096000-1776106800@capitalcitytrackclub.ca
SUMMARY:SP - Senior Practice
DESCRIPTION:
URL:http://capitalcitytrackclub.ca/event/sp-senior-practice-15/
LOCATION:Strathcona Athletic Park\, 1100 N Cloverbar Road\, Sherwood Park\, Alberta\, T8H 2T5\, Canada
CATEGORIES:SP - Senior
END:VEVENT
BEGIN:VEVENT
DTSTART;TZID=America/Edmonton:20260413T170000
DTEND;TZID=America/Edmonton:20260413T183000
DTSTAMP:20260419T061645
CREATED:20260412T022829Z
LAST-MODIFIED:20260412T022829Z
UID:1422-1776099600-1776105000@capitalcitytrackclub.ca
SUMMARY:EDM – Jr High Development Practice
DESCRIPTION:Meet at the Husky Field House.
URL:http://capitalcitytrackclub.ca/event/edm-jr-high-development-practice-59/
LOCATION:Kinsmen Sports Centre\, 9100 Walterdale Hill\, Edmonton\, Alberta\, T6E 2V3\, Canada
CATEGORIES:EDM - Jr High Development
END:VEVENT
BEGIN:VEVENT
DTSTART;TZID=America/Edmonton:20260413T170000
DTEND;TZID=America/Edmonton:20260413T190000
DTSTAMP:20260419T061645
CREATED:20260411T200036Z
LAST-MODIFIED:20260411T200036Z
UID:1370-1776099600-1776106800@capitalcitytrackclub.ca
SUMMARY:EDM – Throws Practice
DESCRIPTION:
URL:http://capitalcitytrackclub.ca/event/edm-throws-practice-47/
LOCATION:Foote Field\, 11601 68 Ave NW\, Edmonton\, Alberta\, T6G 2E1\, Canada
CATEGORIES:EDM - Throws
END:VEVENT
BEGIN:VEVENT
DTSTART;TZID=America/Edmonton:20260413T170000
DTEND;TZID=America/Edmonton:20260413T190000
DTSTAMP:20260419T061645
CREATED:20260412T024725Z
LAST-MODIFIED:20260412T024725Z
UID:1440-1776099600-1776106800@capitalcitytrackclub.ca
SUMMARY:EDM – Development Practice
DESCRIPTION:
URL:http://capitalcitytrackclub.ca/event/edm-development-practice-61/
LOCATION:Foote Field\, 11601 68 Ave NW\, Edmonton\, Alberta\, T6G 2E1\, Canada
CATEGORIES:EDM - Development
END:VEVENT
BEGIN:VEVENT
DTSTART;TZID=America/Edmonton:20260413T173000
DTEND;TZID=America/Edmonton:20260413T190000
DTSTAMP:20260419T061645
CREATED:20260412T024507Z
LAST-MODIFIED:20260412T024605Z
UID:1438-1776101400-1776106800@capitalcitytrackclub.ca
SUMMARY:EDM – Elementary Development Practice
DESCRIPTION:
URL:http://capitalcitytrackclub.ca/event/edm-elementary-development-practice-52/
LOCATION:Kinsmen Sports Centre\, 9100 Walterdale Hill\, Edmonton\, Alberta\, T6E 2V3\, Canada
CATEGORIES:EDM - Elementary Development
END:VEVENT
BEGIN:VEVENT
DTSTART;TZID=America/Edmonton:20260414T080000
DTEND;TZID=America/Edmonton:20260414T170000
DTSTAMP:20260419T061645
CREATED:20260411T202900Z
LAST-MODIFIED:20260411T202900Z
UID:1408-1776153600-1776186000@capitalcitytrackclub.ca
SUMMARY:SP – Jr High Development & Development Practice
DESCRIPTION:
URL:http://capitalcitytrackclub.ca/event/sp-jr-high-development-development-practice-46/
LOCATION:Strathcona Athletic Park\, 1100 N Cloverbar Road\, Sherwood Park\, Alberta\, T8H 2T5\, Canada
CATEGORIES:SP - Development,SP - Jr High Development
END:VEVENT
BEGIN:VEVENT
DTSTART;TZID=America/Edmonton:20260414T160000
DTEND;TZID=America/Edmonton:20260414T180000
DTSTAMP:20260419T061645
CREATED:20260411T201337Z
LAST-MODIFIED:20260411T201337Z
UID:1384-1776182400-1776189600@capitalcitytrackclub.ca
SUMMARY:SP - Distance Practice
DESCRIPTION:
URL:http://capitalcitytrackclub.ca/event/sp-distance-practice-2/
LOCATION:Strathcona Athletic Park\, 1100 N Cloverbar Road\, Sherwood Park\, Alberta\, T8H 2T5\, Canada
CATEGORIES:SP - Distance
END:VEVENT
BEGIN:VEVENT
DTSTART;TZID=America/Edmonton:20260414T160000
DTEND;TZID=America/Edmonton:20260414T190000
DTSTAMP:20260419T061645
CREATED:20260411T201930Z
LAST-MODIFIED:20260411T201930Z
UID:1393-1776182400-1776193200@capitalcitytrackclub.ca
SUMMARY:High Performance Practice
DESCRIPTION:Invitation only
URL:http://capitalcitytrackclub.ca/event/high-performance-practice-2/
LOCATION:Strathcona Athletic Park\, 1100 N Cloverbar Road\, Sherwood Park\, Alberta\, T8H 2T5\, Canada
CATEGORIES:High Performance
END:VEVENT
BEGIN:VEVENT
DTSTART;TZID=America/Edmonton:20260414T160000
DTEND;TZID=America/Edmonton:20260414T190000
DTSTAMP:20260419T061645
CREATED:20260412T030959Z
LAST-MODIFIED:20260412T030959Z
UID:1459-1776182400-1776193200@capitalcitytrackclub.ca
SUMMARY:SP - Senior Practice
DESCRIPTION:
URL:http://capitalcitytrackclub.ca/event/sp-senior-practice-16/
LOCATION:Strathcona Athletic Park\, 1100 N Cloverbar Road\, Sherwood Park\, Alberta\, T8H 2T5\, Canada
CATEGORIES:SP - Senior
END:VEVENT
BEGIN:VEVENT
DTSTART;TZID=America/Edmonton:20260414T170000
DTEND;TZID=America/Edmonton:20260414T190000
DTSTAMP:20260419T061645
CREATED:20260411T200102Z
LAST-MODIFIED:20260411T200102Z
UID:1371-1776186000-1776193200@capitalcitytrackclub.ca
SUMMARY:EDM – Throws Practice
DESCRIPTION:
URL:http://capitalcitytrackclub.ca/event/edm-throws-practice-48/
LOCATION:Foote Field\, 11601 68 Ave NW\, Edmonton\, Alberta\, T6G 2E1\, Canada
CATEGORIES:EDM - Throws
END:VEVENT
BEGIN:VEVENT
DTSTART;TZID=America/Edmonton:20260414T170000
DTEND;TZID=America/Edmonton:20260414T190000
DTSTAMP:20260419T061645
CREATED:20260412T024748Z
LAST-MODIFIED:20260412T024748Z
UID:1441-1776186000-1776193200@capitalcitytrackclub.ca
SUMMARY:EDM – Development Practice
DESCRIPTION:
URL:http://capitalcitytrackclub.ca/event/edm-development-practice-62/
LOCATION:Foote Field\, 11601 68 Ave NW\, Edmonton\, Alberta\, T6G 2E1\, Canada
CATEGORIES:EDM - Development
END:VEVENT
BEGIN:VEVENT
DTSTART;TZID=America/Edmonton:20260415T160000
DTEND;TZID=America/Edmonton:20260415T180000
DTSTAMP:20260419T061645
CREATED:20260411T202924Z
LAST-MODIFIED:20260411T202924Z
UID:1409-1776268800-1776276000@capitalcitytrackclub.ca
SUMMARY:SP – Jr High Development & Development Practice
DESCRIPTION:
URL:http://capitalcitytrackclub.ca/event/sp-jr-high-development-development-practice-47/
LOCATION:Strathcona Athletic Park\, 1100 N Cloverbar Road\, Sherwood Park\, Alberta\, T8H 2T5\, Canada
CATEGORIES:SP - Development,SP - Jr High Development
END:VEVENT
BEGIN:VEVENT
DTSTART;TZID=America/Edmonton:20260415T160000
DTEND;TZID=America/Edmonton:20260415T190000
DTSTAMP:20260419T061645
CREATED:20260411T202005Z
LAST-MODIFIED:20260411T202005Z
UID:1394-1776268800-1776279600@capitalcitytrackclub.ca
SUMMARY:High Performance Practice
DESCRIPTION:Invitation only
URL:http://capitalcitytrackclub.ca/event/high-performance-practice-3/
LOCATION:Strathcona Athletic Park\, 1100 N Cloverbar Road\, Sherwood Park\, Alberta\, T8H 2T5\, Canada
CATEGORIES:High Performance
END:VEVENT
BEGIN:VEVENT
DTSTART;TZID=America/Edmonton:20260415T160000
DTEND;TZID=America/Edmonton:20260415T190000
DTSTAMP:20260419T061645
CREATED:20260412T031033Z
LAST-MODIFIED:20260412T031033Z
UID:1460-1776268800-1776279600@capitalcitytrackclub.ca
SUMMARY:SP - Senior Practice
DESCRIPTION:
URL:http://capitalcitytrackclub.ca/event/sp-senior-practice-17/
LOCATION:Strathcona Athletic Park\, 1100 N Cloverbar Road\, Sherwood Park\, Alberta\, T8H 2T5\, Canada
CATEGORIES:SP - Senior
END:VEVENT
BEGIN:VEVENT
DTSTART;TZID=America/Edmonton:20260415T170000
DTEND;TZID=America/Edmonton:20260415T183000
DTSTAMP:20260419T061645
CREATED:20260412T022856Z
LAST-MODIFIED:20260412T022856Z
UID:1423-1776272400-1776277800@capitalcitytrackclub.ca
SUMMARY:EDM – Jr High Development Practice
DESCRIPTION:Meet at the Husky Field House.
URL:http://capitalcitytrackclub.ca/event/edm-jr-high-development-practice-60/
LOCATION:Kinsmen Sports Centre\, 9100 Walterdale Hill\, Edmonton\, Alberta\, T6E 2V3\, Canada
CATEGORIES:EDM - Jr High Development
END:VEVENT
BEGIN:VEVENT
DTSTART;TZID=America/Edmonton:20260415T170000
DTEND;TZID=America/Edmonton:20260415T190000
DTSTAMP:20260419T061645
CREATED:20260411T200249Z
LAST-MODIFIED:20260413T193823Z
UID:1372-1776272400-1776279600@capitalcitytrackclub.ca
SUMMARY:Technical Practice – Throws (EDM & SP)
DESCRIPTION:Technical session for all throwers\, multi-eventers\, and athletes interested in throws.
URL:http://capitalcitytrackclub.ca/event/technical-practice-throws/
LOCATION:Foote Field\, 11601 68 Ave NW\, Edmonton\, Alberta\, T6G 2E1\, Canada
CATEGORIES:EDM - Throws,Technical Practice
END:VEVENT
BEGIN:VEVENT
DTSTART;TZID=America/Edmonton:20260415T173000
DTEND;TZID=America/Edmonton:20260415T190000
DTSTAMP:20260419T061645
CREATED:20260412T024548Z
LAST-MODIFIED:20260412T024548Z
UID:1439-1776274200-1776279600@capitalcitytrackclub.ca
SUMMARY:EDM – Elementary Development Practice
DESCRIPTION:
URL:http://capitalcitytrackclub.ca/event/edm-elementary-development-practice-53/
LOCATION:Kinsmen Sports Centre\, 9100 Walterdale Hill\, Edmonton\, Alberta\, T6E 2V3\, Canada
CATEGORIES:EDM - Elementary Development
END:VEVENT
END:VCALENDAR